BEGIN:VCALENDAR
VERSION:2.0
PRODID:-//The Personalized Medicine Coalition - ECPv6.15.15//NONSGML v1.0//EN
CALSCALE:GREGORIAN
METHOD:PUBLISH
X-ORIGINAL-URL:https://www.personalizedmedicinecoalition.org
X-WR-CALDESC:Events for The Personalized Medicine Coalition
REFRESH-INTERVAL;VALUE=DURATION:PT1H
X-Robots-Tag:noindex
X-PUBLISHED-TTL:PT1H
BEGIN:VTIMEZONE
TZID:America/New_York
BEGIN:DAYLIGHT
TZOFFSETFROM:-0500
TZOFFSETTO:-0400
TZNAME:EDT
DTSTART:20240310T070000
END:DAYLIGHT
BEGIN:STANDARD
TZOFFSETFROM:-0400
TZOFFSETTO:-0500
TZNAME:EST
DTSTART:20241103T060000
END:STANDARD
BEGIN:DAYLIGHT
TZOFFSETFROM:-0500
TZOFFSETTO:-0400
TZNAME:EDT
DTSTART:20250309T070000
END:DAYLIGHT
BEGIN:STANDARD
TZOFFSETFROM:-0400
TZOFFSETTO:-0500
TZNAME:EST
DTSTART:20251102T060000
END:STANDARD
BEGIN:DAYLIGHT
TZOFFSETFROM:-0500
TZOFFSETTO:-0400
TZNAME:EDT
DTSTART:20260308T070000
END:DAYLIGHT
BEGIN:STANDARD
TZOFFSETFROM:-0400
TZOFFSETTO:-0500
TZNAME:EST
DTSTART:20261101T060000
END:STANDARD
END:VTIMEZONE
BEGIN:VEVENT
DTSTART;TZID=America/New_York:20251113T080000
DTEND;TZID=America/New_York:20251114T130000
DTSTAMP:20260421T100358
CREATED:20250220T162137Z
LAST-MODIFIED:20250702T125057Z
UID:10000054-1763020800-1763125200@www.personalizedmedicinecoalition.org
SUMMARY:19th Annual Personalized Medicine Conference
DESCRIPTION:Event website \nThe Annual Personalized Medicine Conference is designed to provide attendees with an opportunity to develop collaborative solutions to shared challenges in personalized medicine. Participants will exchange views with leading business executives\, clinicians\, journalists\, and patient advocates in an intimate conference setting. \nNearly a third of the 300 participants in last year’s conference were CEOs\, Principals\, or Managing Directors at their respective institutions. Attendees also included leading clinicians\, patients and patient advocates\, and journalists from The Washington Post\, Fortune magazine\, and Endpoints News\, several of whom conducted one-on-one interviews with PMC member representatives.
URL:https://www.personalizedmedicinecoalition.org/event/19th-annual-personalized-medicine-conference/
LOCATION:Ritz-Carlton Laguna Niguel\, One Ritz Carlton Drive\, Dana Point\, CA\, 92629\, United States
CATEGORIES:Featured Event,PMC Event
ATTACH;FMTTYPE=image/jpeg:https://www.personalizedmedicinecoalition.org/wp-content/uploads/2025/02/19th-Annual-Conference.jpg
END:VEVENT
END:VCALENDAR