BEGIN:VCALENDAR
VERSION:2.0
PRODID:-//The Personalized Medicine Coalition - ECPv6.15.15//NONSGML v1.0//EN
CALSCALE:GREGORIAN
METHOD:PUBLISH
X-WR-CALNAME:The Personalized Medicine Coalition
X-ORIGINAL-URL:https://www.personalizedmedicinecoalition.org
X-WR-CALDESC:Events for The Personalized Medicine Coalition
REFRESH-INTERVAL;VALUE=DURATION:PT1H
X-Robots-Tag:noindex
X-PUBLISHED-TTL:PT1H
BEGIN:VTIMEZONE
TZID:America/New_York
BEGIN:DAYLIGHT
TZOFFSETFROM:-0500
TZOFFSETTO:-0400
TZNAME:EDT
DTSTART:20250309T070000
END:DAYLIGHT
BEGIN:STANDARD
TZOFFSETFROM:-0400
TZOFFSETTO:-0500
TZNAME:EST
DTSTART:20251102T060000
END:STANDARD
BEGIN:DAYLIGHT
TZOFFSETFROM:-0500
TZOFFSETTO:-0400
TZNAME:EDT
DTSTART:20260308T070000
END:DAYLIGHT
BEGIN:STANDARD
TZOFFSETFROM:-0400
TZOFFSETTO:-0500
TZNAME:EST
DTSTART:20261101T060000
END:STANDARD
BEGIN:DAYLIGHT
TZOFFSETFROM:-0500
TZOFFSETTO:-0400
TZNAME:EDT
DTSTART:20270314T070000
END:DAYLIGHT
BEGIN:STANDARD
TZOFFSETFROM:-0400
TZOFFSETTO:-0500
TZNAME:EST
DTSTART:20271107T060000
END:STANDARD
END:VTIMEZONE
BEGIN:VEVENT
DTSTART;VALUE=DATE:20261118
DTEND;VALUE=DATE:20261120
DTSTAMP:20260421T062402
CREATED:20260408T192057Z
LAST-MODIFIED:20260414T151144Z
UID:10000062-1794960000-1795132799@www.personalizedmedicinecoalition.org
SUMMARY:PMC Annual Personalized Medicine Conference
DESCRIPTION:The Annual Personalized Medicine Conference is designed to provide attendees with an opportunity to develop collaborative solutions to shared challenges in personalized medicine. Participants will exchange views with leading business executives\, clinicians\, journalists\, and patient advocates in an intimate conference setting. \nNearly a third of last year’s conference participants were CEOs\, Principals\, or Managing Directors at their respective institutions. Attendees also included leading clinicians\, patients and patient advocates\, and journalists from The Washington Post\, Fortune magazine\, and Endpoints News\, several of whom conducted one-on-one interviews with PMC member representatives. \nTo learn about current sponsorship opportunities\, download the 2026 Conference Prospectus.
URL:https://www.personalizedmedicinecoalition.org/event/pmc-annual-personalized-medicine-conference-2/
LOCATION:Hyatt Regency Boston / Cambridge
CATEGORIES:Featured Event,PMC Event
ATTACH;FMTTYPE=image/jpeg:https://www.personalizedmedicinecoalition.org/wp-content/uploads/2026/04/pmc_conference_2026.jpg
END:VEVENT
END:VCALENDAR