BEGIN:VCALENDAR
VERSION:2.0
PRODID:-//The Personalized Medicine Coalition - ECPv6.15.15//NONSGML v1.0//EN
CALSCALE:GREGORIAN
METHOD:PUBLISH
X-ORIGINAL-URL:https://www.personalizedmedicinecoalition.org
X-WR-CALDESC:Events for The Personalized Medicine Coalition
REFRESH-INTERVAL;VALUE=DURATION:PT1H
X-Robots-Tag:noindex
X-PUBLISHED-TTL:PT1H
BEGIN:VTIMEZONE
TZID:America/New_York
BEGIN:DAYLIGHT
TZOFFSETFROM:-0500
TZOFFSETTO:-0400
TZNAME:EDT
DTSTART:20240310T070000
END:DAYLIGHT
BEGIN:STANDARD
TZOFFSETFROM:-0400
TZOFFSETTO:-0500
TZNAME:EST
DTSTART:20241103T060000
END:STANDARD
BEGIN:DAYLIGHT
TZOFFSETFROM:-0500
TZOFFSETTO:-0400
TZNAME:EDT
DTSTART:20250309T070000
END:DAYLIGHT
BEGIN:STANDARD
TZOFFSETFROM:-0400
TZOFFSETTO:-0500
TZNAME:EST
DTSTART:20251102T060000
END:STANDARD
BEGIN:DAYLIGHT
TZOFFSETFROM:-0500
TZOFFSETTO:-0400
TZNAME:EDT
DTSTART:20260308T070000
END:DAYLIGHT
BEGIN:STANDARD
TZOFFSETFROM:-0400
TZOFFSETTO:-0500
TZNAME:EST
DTSTART:20261101T060000
END:STANDARD
END:VTIMEZONE
BEGIN:VEVENT
DTSTART;VALUE=DATE:20250506
DTEND;VALUE=DATE:20250510
DTSTAMP:20260420T064741
CREATED:20250306T144838Z
LAST-MODIFIED:20250306T145646Z
UID:10000055-1746489600-1746835199@www.personalizedmedicinecoalition.org
SUMMARY:McDermott HealthEx
DESCRIPTION:McDermott HealthEx connects healthcare and life sciences’ most influential players like never before. Creativity\, transformation\, and growth take center stage in Nashville – the epicenter of healthcare – to maximize industry connectivity and chart a better path forward. \n\nPMC Members may receive complimentary access to this conference. Please reach out to kbrown@personalizedmedicinecoalition.org if you are interested in receiving a complimentary ticket.
URL:https://www.personalizedmedicinecoalition.org/event/mcdermott-healthex/
ATTACH;FMTTYPE=image/png:https://www.personalizedmedicinecoalition.org/wp-content/uploads/2025/03/Screenshot-2025-03-06-at-9.47.37-AM.png
END:VEVENT
END:VCALENDAR